BEGIN:VCALENDAR
VERSION:2.0
PRODID:-//ChamberMaster//Event Calendar 2.0//EN
METHOD:PUBLISH
X-PUBLISHED-TTL:P3D
REFRESH-INTERVAL:P3D
CALSCALE:GREGORIAN
BEGIN:VEVENT
DTSTART;VALUE=DATE:20221201
DTEND;VALUE=DATE:20221217
TRANSP:TRANSPARENT
X-MICROSOFT-CDO-ALLDAYEVENT:TRUE
SUMMARY:2022 Light Up Graham
DESCRIPTION:Let's get into the Holiday Spirit and Light Up Graham! In partnership with Ciera Bank\, we encourage businesses/organizations to participate in this festive decorating contest. \n\n\n\nCategories Include: \n\nThe Clark Griswold Award for best use of Christmas lights\n\n& The Macy's Day Window Display Award for best holiday decorations.
X-ALT-DESC;FMTTYPE=text/html:<p>Let&#39\;s get into the Holiday Spirit and Light Up Graham! In partnership with Ciera Bank\, we encourage businesses/organizations to participate in this festive decorating contest.&nbsp\;<br />\n<br />\nCategories Include:&nbsp\;</p>\n\n<p>The Clark Griswold Award for best use of Christmas lights<br />\n&amp\; The Macy&#39\;s Day Window Display Award for best holiday decorations.&nbsp\;</p>\n
LOCATION:
UID:e.778.1277
SEQUENCE:3
DTSTAMP:20260420T215452Z
URL:http://graham.chambermaster.com/events/details/2022-light-up-graham-1277
END:VEVENT

END:VCALENDAR
